BEGIN:VCALENDAR
VERSION:2.0
PRODID:-//Education Social Club - ECPv6.15.17.1//NONSGML v1.0//EN
CALSCALE:GREGORIAN
METHOD:PUBLISH
X-WR-CALNAME:Education Social Club
X-ORIGINAL-URL:https://www.educationsocialclub.com
X-WR-CALDESC:Eventos para Education Social Club
REFRESH-INTERVAL;VALUE=DURATION:PT1H
X-Robots-Tag:noindex
X-PUBLISHED-TTL:PT1H
BEGIN:VTIMEZONE
TZID:UTC
BEGIN:STANDARD
TZOFFSETFROM:+0000
TZOFFSETTO:+0000
TZNAME:UTC
DTSTART:20250101T000000
END:STANDARD
END:VTIMEZONE
BEGIN:VEVENT
DTSTART;TZID=UTC:20260425T103000
DTEND;TZID=UTC:20260425T123000
DTSTAMP:20260422T100424
CREATED:20260404T080947Z
LAST-MODIFIED:20260404T103239Z
UID:10000058-1777113000-1777120200@www.educationsocialclub.com
SUMMARY:ATB: Presencia en acción (Barcelona)
DESCRIPTION:¿Y si el cuerpo\, el juego y el movimiento fuera la clave para despertar nuestra conciencia y aprender a vivir mejor? \n​Despertar la consciencia a través del cuerpo es una propuesta que ofrece herramientas tanto a niños como a adultos para conocerse mejor y gestionar su inmenso mundo interno de forma más efectiva. \n​A través de actividades lúdicas y creativas\, se entrena la atención\, la concentración\, la autorregulación emocional y la capacidad de reconocer los propios cambios. \n​En un mundo donde la atención es cada vez más escasa\, aprender a focalizarla y sostenerla se convierte en una habilidad esencial: la base de todo aprendizaje y desarrollo personal. \n​Este taller inspirado en ATB (Awareness Through the Body) invita a explorar el cuerpo como un puente hacia el bienestar\, la conciencia y la conexión profunda con uno mismo y con los demás. \n​El sábado 25.04 de 10:30 a 12:30 h. y el viernes 15.05 de 18-20:00h. tienes dos oportunidades de oro para descubrir una práctica que va a marcar un antes y un después en tu vida. \n​Razones para asistir: \n​👉🏼 Mejorar la gestión de la atención y la concentración. \n​👉🏼 Fomentar la autorregulación emocional. \n​👉🏼 Promover el autoconocimiento. \n​👉🏼 Incorporar la conciencia corporal. \n​👉🏼 Enriquecer la inteligencia interpersonal. \n​💥 Ideal para personas con cargos directivos en cualquier ámbito\, docentes\, equipos pedagógicos o cualquier persona que desee redescubrir su capacidad de presencia\, atención y equilibrio interior. \n​¿Preparado/a para aprender a través del cuerpo? Para mí fue una revelación tanto en mi vida profesional como en la personal y quiero compartirla contigo. \n​Puedes inscribirte a través de este link. ¡Las plazas para ambos talleres son limitadas\, reserva la tuya! \n​Solo necesitas traer ropa cómoda\, agua y muchas ganas. \nCualquier duda\, puedes escribir un correo a: luisa@educationsocialclub.com \nUn abrazo \nLuisa
URL:https://www.educationsocialclub.com/event/taller-inspirado-en-atb-presencial-barcelona/
END:VEVENT
BEGIN:VEVENT
DTSTART;TZID=UTC:20260515T183000
DTEND;TZID=UTC:20260515T203000
DTSTAMP:20260422T100424
CREATED:20260404T081132Z
LAST-MODIFIED:20260404T103135Z
UID:10000059-1778869800-1778877000@www.educationsocialclub.com
SUMMARY:ATB: Presencia en acción (Barcelona)
DESCRIPTION:¿Y si el cuerpo\, el juego y el movimiento fuera la clave para despertar nuestra conciencia y aprender a vivir mejor? \n​Despertar la consciencia a través del cuerpo es una propuesta que ofrece herramientas tanto a niños como a adultos para conocerse mejor y gestionar su inmenso mundo interno de forma más efectiva. \n​A través de actividades lúdicas y creativas\, se entrena la atención\, la concentración\, la autorregulación emocional y la capacidad de reconocer los propios cambios. \n​En un mundo donde la atención es cada vez más escasa\, aprender a focalizarla y sostenerla se convierte en una habilidad esencial: la base de todo aprendizaje y desarrollo personal. \n​Este taller inspirado en ATB (Awareness Through the Body) invita a explorar el cuerpo como un puente hacia el bienestar\, la conciencia y la conexión profunda con uno mismo y con los demás. \n​El sábado 25.04 de 10:30 a 12:30 h. y el viernes 15.05 de 18-20:00h. tienes dos oportunidades de oro para descubrir una práctica que va a marcar un antes y un después en tu vida. \n​Razones para asistir: \n​👉🏼 Mejorar la gestión de la atención y la concentración. \n​👉🏼 Fomentar la autorregulación emocional. \n​👉🏼 Promover el autoconocimiento. \n​👉🏼 Incorporar la conciencia corporal. \n​👉🏼 Enriquecer la inteligencia interpersonal. \n​💥 Ideal para personas con cargos directivos en cualquier ámbito\, docentes\, equipos pedagógicos o cualquier persona que desee redescubrir su capacidad de presencia\, atención y equilibrio interior. \n​¿Preparado/a para aprender a través del cuerpo? Para mí fue una revelación tanto en mi vida profesional como en la personal y quiero compartirla contigo. \n​¡Las plazas para ambos talleres son limitadas\, reserva la tuya! \n​Solo necesitas traer ropa cómoda\, agua y muchas ganas. \nCualquier duda\, puedes escribir un correo a: luisa@educationsocialclub.com \nUn abrazo \nLuisa
URL:https://www.educationsocialclub.com/event/taller-inspirado-en-atb/
END:VEVENT
END:VCALENDAR