BEGIN:VCALENDAR
VERSION:2.0
PRODID:-//Education Social Club - ECPv6.15.17.1//NONSGML v1.0//EN
CALSCALE:GREGORIAN
METHOD:PUBLISH
X-WR-CALNAME:Education Social Club
X-ORIGINAL-URL:https://www.educationsocialclub.com
X-WR-CALDESC:Eventos para Education Social Club
REFRESH-INTERVAL;VALUE=DURATION:PT1H
X-Robots-Tag:noindex
X-PUBLISHED-TTL:PT1H
BEGIN:VTIMEZONE
TZID:Europe/Madrid
BEGIN:DAYLIGHT
TZOFFSETFROM:+0100
TZOFFSETTO:+0200
TZNAME:CEST
DTSTART:20230326T010000
END:DAYLIGHT
BEGIN:STANDARD
TZOFFSETFROM:+0200
TZOFFSETTO:+0100
TZNAME:CET
DTSTART:20231029T010000
END:STANDARD
BEGIN:DAYLIGHT
TZOFFSETFROM:+0100
TZOFFSETTO:+0200
TZNAME:CEST
DTSTART:20240331T010000
END:DAYLIGHT
BEGIN:STANDARD
TZOFFSETFROM:+0200
TZOFFSETTO:+0100
TZNAME:CET
DTSTART:20241027T010000
END:STANDARD
BEGIN:DAYLIGHT
TZOFFSETFROM:+0100
TZOFFSETTO:+0200
TZNAME:CEST
DTSTART:20250330T010000
END:DAYLIGHT
BEGIN:STANDARD
TZOFFSETFROM:+0200
TZOFFSETTO:+0100
TZNAME:CET
DTSTART:20251026T010000
END:STANDARD
END:VTIMEZONE
BEGIN:VEVENT
DTSTART;TZID=Europe/Madrid:20241017T190000
DTEND;TZID=Europe/Madrid:20241017T210000
DTSTAMP:20260422T193005
CREATED:20240829T103426Z
LAST-MODIFIED:20241016T161145Z
UID:10000009-1729191600-1729198800@www.educationsocialclub.com
SUMMARY:A cooperar se aprende: Claves para fomentar el Aprendizaje Cooperativo
DESCRIPTION:A cooperar se aprende y\, por desgracia\, las prácticas pedagógicas más comunes no se focalizan en esta habilidad cada vez más necesitada. En este taller\, vamos a tratar las claves del Aprendizaje Cooperativo\, desmintiendo algunos mitos en torno a esta metodología tan potente. Los 5 elementos\, las formas de interacción y los tipos de AC son algunas de las pistas que te damos sobre el contenido de este taller.\nEn Education Social Club partimos de la sabiduria de la inteligencia colectiva y el intercambio de experiencias que va a haber en este taller va a ser muy enriquecedor y significativo con pequeñas claves directamente aplicables en el día a día en la escuela. \nObjetivos pedagógicos\n\nConocer los elementos fundamentales del Aprendizaje Cooperativo\nDeshacer mitos en torno a esta metodología\nExplorar los tipos de interacción\nPromover el intercambio de experiencias y buenas prácticas
URL:https://www.educationsocialclub.com/event/a-cooperar-se-aprende-claves-para-fomentar-el-aprendizaje-cooperativo/
CATEGORIES:Taller
END:VEVENT
END:VCALENDAR